BEGIN:VCALENDAR
VERSION:2.0
PRODID:-//Pfadi Kreuzlingen - ECPv6.15.17.1//NONSGML v1.0//EN
CALSCALE:GREGORIAN
METHOD:PUBLISH
X-WR-CALNAME:Pfadi Kreuzlingen
X-ORIGINAL-URL:https://www.pfadi-kreuzlingen.ch/cms
X-WR-CALDESC:Veranstaltungen für Pfadi Kreuzlingen
REFRESH-INTERVAL;VALUE=DURATION:PT1H
X-Robots-Tag:noindex
X-PUBLISHED-TTL:PT1H
BEGIN:VTIMEZONE
TZID:Europe/Zurich
BEGIN:DAYLIGHT
TZOFFSETFROM:+0100
TZOFFSETTO:+0200
TZNAME:CEST
DTSTART:20250330T010000
END:DAYLIGHT
BEGIN:STANDARD
TZOFFSETFROM:+0200
TZOFFSETTO:+0100
TZNAME:CET
DTSTART:20251026T010000
END:STANDARD
BEGIN:DAYLIGHT
TZOFFSETFROM:+0100
TZOFFSETTO:+0200
TZNAME:CEST
DTSTART:20260329T010000
END:DAYLIGHT
BEGIN:STANDARD
TZOFFSETFROM:+0200
TZOFFSETTO:+0100
TZNAME:CET
DTSTART:20261025T010000
END:STANDARD
BEGIN:DAYLIGHT
TZOFFSETFROM:+0100
TZOFFSETTO:+0200
TZNAME:CEST
DTSTART:20270328T010000
END:DAYLIGHT
BEGIN:STANDARD
TZOFFSETFROM:+0200
TZOFFSETTO:+0100
TZNAME:CET
DTSTART:20271031T010000
END:STANDARD
END:VTIMEZONE
BEGIN:VEVENT
DTSTART;VALUE=DATE:20260502
DTEND;VALUE=DATE:20260503
DTSTAMP:20260423T182103
CREATED:20251227T103215Z
LAST-MODIFIED:20251227T103215Z
UID:3937-1777680000-1777766399@www.pfadi-kreuzlingen.ch
SUMMARY:Pizzaplausch
DESCRIPTION:
URL:https://www.pfadi-kreuzlingen.ch/cms/vermietungskalender/pizzaplausch/
LOCATION:Pfadiheim „Alte Mühle“\, Mühlestr. 16\, Kreuzlingen\, TG\, 8280\, Schweiz
END:VEVENT
BEGIN:VEVENT
DTSTART;TZID=Europe/Zurich:20260508T160000
DTEND;TZID=Europe/Zurich:20260508T230000
DTSTAMP:20260423T182103
CREATED:20251227T103320Z
LAST-MODIFIED:20251227T103320Z
UID:3939-1778256000-1778281200@www.pfadi-kreuzlingen.ch
SUMMARY:Leitervorstandsparty
DESCRIPTION:
URL:https://www.pfadi-kreuzlingen.ch/cms/vermietungskalender/leitervorstandsparty-3/
LOCATION:Pfadiheim „Alte Mühle“\, Mühlestr. 16\, Kreuzlingen\, TG\, 8280\, Schweiz
END:VEVENT
BEGIN:VEVENT
DTSTART;VALUE=DATE:20260509
DTEND;VALUE=DATE:20260511
DTSTAMP:20260423T182103
CREATED:20251227T103411Z
LAST-MODIFIED:20251227T103411Z
UID:3941-1778284800-1778457599@www.pfadi-kreuzlingen.ch
SUMMARY:Wölfliweekend
DESCRIPTION:
URL:https://www.pfadi-kreuzlingen.ch/cms/vermietungskalender/woelfliweekend/
LOCATION:Pfadiheim „Alte Mühle“\, Mühlestr. 16\, Kreuzlingen\, TG\, 8280\, Schweiz
END:VEVENT
BEGIN:VEVENT
DTSTART;VALUE=DATE:20260514
DTEND;VALUE=DATE:20260518
DTSTAMP:20260423T182103
CREATED:20260223T103212Z
LAST-MODIFIED:20260223T103212Z
UID:4042-1778716800-1779062399@www.pfadi-kreuzlingen.ch
SUMMARY:Haus gesperrt
DESCRIPTION:
URL:https://www.pfadi-kreuzlingen.ch/cms/vermietungskalender/haus-gesperrt/
LOCATION:Pfadiheim „Alte Mühle“\, Mühlestr. 16\, Kreuzlingen\, TG\, 8280\, Schweiz
END:VEVENT
BEGIN:VEVENT
DTSTART;VALUE=DATE:20260518
DTEND;VALUE=DATE:20260523
DTSTAMP:20260423T182103
CREATED:20250827T124819Z
LAST-MODIFIED:20250827T124819Z
UID:3902-1779062400-1779494399@www.pfadi-kreuzlingen.ch
SUMMARY:Lager Cu.
DESCRIPTION:
URL:https://www.pfadi-kreuzlingen.ch/cms/vermietungskalender/lager-cu/
LOCATION:Pfadiheim „Alte Mühle“\, Mühlestr. 16\, Kreuzlingen\, TG\, 8280\, Schweiz
END:VEVENT
BEGIN:VEVENT
DTSTART;VALUE=DATE:20260523
DTEND;VALUE=DATE:20260526
DTSTAMP:20260423T182103
CREATED:20250920T095556Z
LAST-MODIFIED:20250920T095556Z
UID:3911-1779494400-1779753599@www.pfadi-kreuzlingen.ch
SUMMARY:Lager FC M.
DESCRIPTION:
URL:https://www.pfadi-kreuzlingen.ch/cms/vermietungskalender/lager-fc-m/
LOCATION:Pfadiheim „Alte Mühle“\, Mühlestr. 16\, Kreuzlingen\, TG\, 8280\, Schweiz
END:VEVENT
BEGIN:VEVENT
DTSTART;VALUE=DATE:20260525
DTEND;VALUE=DATE:20260531
DTSTAMP:20260423T182103
CREATED:20251227T110827Z
LAST-MODIFIED:20251227T110827Z
UID:3943-1779667200-1780185599@www.pfadi-kreuzlingen.ch
SUMMARY:Pfila Material trocknen
DESCRIPTION:
URL:https://www.pfadi-kreuzlingen.ch/cms/vermietungskalender/pfila-material-trocknen/
LOCATION:Pfadiheim „Alte Mühle“\, Mühlestr. 16\, Kreuzlingen\, TG\, 8280\, Schweiz
END:VEVENT
END:VCALENDAR